BEGIN:VCALENDAR
VERSION:2.0
PRODID:-//Squarespace Inc/Squarespace 6//v6//EN
BEGIN:VEVENT
UID:5af2740070a6ade68bb0d3a2@squarespace.com
DTSTAMP:20180626T091957Z
DTSTART:20180701T090000Z
DTEND:20180701T110000Z
SUMMARY:Sean McConnell (White Lightning)
END:VEVENT
END:VCALENDAR
