BEGIN:VCALENDAR
VERSION:2.0
PRODID:-//Squarespace Inc/Squarespace 6//v6//EN
BEGIN:VEVENT
UID:5af27310562fa7f44a9cb171@squarespace.com
DTSTAMP:20180509T040431Z
DTSTART:20180603T090000Z
DTEND:20180603T110000Z
SUMMARY:Waz E James Band
END:VEVENT
END:VCALENDAR
