BEGIN:VCALENDAR
VERSION:2.0
PRODID:-//Squarespace Inc/Squarespace 6//v6//EN
BEGIN:VEVENT
UID:5ad2e2bf1ae6cfce64a3916a@squarespace.com
DTSTAMP:20180415T052900Z
DTSTART:20180506T090000Z
DTEND:20180506T110000Z
SUMMARY:Chris Pickering Experiment
END:VEVENT
END:VCALENDAR
