BEGIN:VCALENDAR
VERSION:2.0
PRODID:-//Squarespace Inc/Squarespace 6//v6//EN
BEGIN:VEVENT
UID:5af2726203ce64c3ce27e19c@squarespace.com
DTSTAMP:20180509T040313Z
DTSTART:20180527T090000Z
DTEND:20180527T110000Z
SUMMARY:Benny James & The Blue Flames
END:VEVENT
END:VCALENDAR
