BEGIN:VCALENDAR
VERSION:2.0
PRODID:-//Squarespace Inc/Squarespace 6//v6//EN
BEGIN:VEVENT
UID:5ad2e2458a922d44a45be7d7@squarespace.com
DTSTAMP:20180415T052712Z
DTSTART:20180429T090000Z
DTEND:20180429T110000Z
SUMMARY:Honk
END:VEVENT
END:VCALENDAR
