BEGIN:VCALENDAR
VERSION:2.0
PRODID:-//Squarespace Inc/Squarespace 6//v6//EN
BEGIN:VEVENT
UID:5ad2e1720e2e7224de2a3a5c@squarespace.com
DTSTAMP:20180415T052440Z
DTSTART:20180422T090000Z
DTEND:20180422T110000Z
SUMMARY:Sammy Owen & Friends
END:VEVENT
END:VCALENDAR
